BEGIN:VCALENDAR
VERSION:2.0
PRODID:-//CENTRAL TEXAS POOL LEAGUES - ECPv6.15.20//NONSGML v1.0//EN
CALSCALE:GREGORIAN
METHOD:PUBLISH
X-ORIGINAL-URL:https://centraltexaspoolleagues.com
X-WR-CALDESC:Events for CENTRAL TEXAS POOL LEAGUES
REFRESH-INTERVAL;VALUE=DURATION:PT1H
X-Robots-Tag:noindex
X-PUBLISHED-TTL:PT1H
BEGIN:VTIMEZONE
TZID:America/Denver
BEGIN:DAYLIGHT
TZOFFSETFROM:-0700
TZOFFSETTO:-0600
TZNAME:MDT
DTSTART:20310309T090000
END:DAYLIGHT
BEGIN:STANDARD
TZOFFSETFROM:-0600
TZOFFSETTO:-0700
TZNAME:MST
DTSTART:20311102T080000
END:STANDARD
BEGIN:DAYLIGHT
TZOFFSETFROM:-0700
TZOFFSETTO:-0600
TZNAME:MDT
DTSTART:20320314T090000
END:DAYLIGHT
BEGIN:STANDARD
TZOFFSETFROM:-0600
TZOFFSETTO:-0700
TZNAME:MST
DTSTART:20321107T080000
END:STANDARD
BEGIN:DAYLIGHT
TZOFFSETFROM:-0700
TZOFFSETTO:-0600
TZNAME:MDT
DTSTART:20330313T090000
END:DAYLIGHT
BEGIN:STANDARD
TZOFFSETFROM:-0600
TZOFFSETTO:-0700
TZNAME:MST
DTSTART:20331106T080000
END:STANDARD
BEGIN:DAYLIGHT
TZOFFSETFROM:-0700
TZOFFSETTO:-0600
TZNAME:MDT
DTSTART:20340312T090000
END:DAYLIGHT
BEGIN:STANDARD
TZOFFSETFROM:-0600
TZOFFSETTO:-0700
TZNAME:MST
DTSTART:20341105T080000
END:STANDARD
BEGIN:DAYLIGHT
TZOFFSETFROM:-0700
TZOFFSETTO:-0600
TZNAME:MDT
DTSTART:20350311T090000
END:DAYLIGHT
BEGIN:STANDARD
TZOFFSETFROM:-0600
TZOFFSETTO:-0700
TZNAME:MST
DTSTART:20351104T080000
END:STANDARD
BEGIN:DAYLIGHT
TZOFFSETFROM:-0700
TZOFFSETTO:-0600
TZNAME:MDT
DTSTART:20360309T090000
END:DAYLIGHT
BEGIN:STANDARD
TZOFFSETFROM:-0600
TZOFFSETTO:-0700
TZNAME:MST
DTSTART:20361102T080000
END:STANDARD
BEGIN:DAYLIGHT
TZOFFSETFROM:-0700
TZOFFSETTO:-0600
TZNAME:MDT
DTSTART:20370308T090000
END:DAYLIGHT
BEGIN:STANDARD
TZOFFSETFROM:-0600
TZOFFSETTO:-0700
TZNAME:MST
DTSTART:20371101T080000
END:STANDARD
BEGIN:DAYLIGHT
TZOFFSETFROM:-0700
TZOFFSETTO:-0600
TZNAME:MDT
DTSTART:20380314T090000
END:DAYLIGHT
BEGIN:STANDARD
TZOFFSETFROM:-0600
TZOFFSETTO:-0700
TZNAME:MST
DTSTART:20381107T080000
END:STANDARD
BEGIN:DAYLIGHT
TZOFFSETFROM:-0700
TZOFFSETTO:-0600
TZNAME:MDT
DTSTART:20390313T090000
END:DAYLIGHT
BEGIN:STANDARD
TZOFFSETFROM:-0600
TZOFFSETTO:-0700
TZNAME:MST
DTSTART:20391106T080000
END:STANDARD
BEGIN:DAYLIGHT
TZOFFSETFROM:-0700
TZOFFSETTO:-0600
TZNAME:MDT
DTSTART:20400311T090000
END:DAYLIGHT
BEGIN:STANDARD
TZOFFSETFROM:-0600
TZOFFSETTO:-0700
TZNAME:MST
DTSTART:20401104T080000
END:STANDARD
END:VTIMEZONE
BEGIN:VEVENT
DTSTART;TZID=America/Denver:20321009T130000
DTEND;TZID=America/Denver:20361005T210000
DTSTAMP:20260420T065514
CREATED:20251111T003939Z
LAST-MODIFIED:20260325T033151Z
UID:10000148-1980939600-2106853200@centraltexaspoolleagues.com
SUMMARY:Central Texas Pool Leagues: Bi-Monthly 10-Ball Tournament
DESCRIPTION:Central Texas Pool Leagues 10-Ball Tournament\nSpecial Thanks to Mayfield’s Bar & Billiards for being our Host!\nPending Updated Registration Link (Check back closer to the event) \n \n$20.00 Buy-In | Venue adds to pot with 16+ registered players \nPre-Registration ends @12:00pm of the event! \nWhere: Mayfield’s Bar & Billiards | 13201 Pond Springs Rd Austin\, TX 78729 \nWhen: Even Months – 2nd Saturday of the Month | | 1:00pm (Doors open at 12:00pm) \nBCAPL Modified 10-Ball Rules \nRace to 3 – both Winner & Losers brackets \nAlternating Break | Rack Your Own | **No 3-Foul Rule** \nEarly 10-Ball counts (On-Break: cannot be front 2 corner pockets)
URL:https://centraltexaspoolleagues.com/event/central-texas-pool-leagues-10-ball-2/2032-10-09/
LOCATION:Mayfield’s Bar & Billiards\, 13201 Pond Springs Road\, Austin\, TX\, 78729\, United States
CATEGORIES:CTPL Monthly Tournament
ORGANIZER;CN="Central Texas Pool Leagues":MAILTO:leaguesupport@centraltexaspoolleagues.com
END:VEVENT
BEGIN:VEVENT
DTSTART;TZID=America/Denver:20321211T130000
DTEND;TZID=America/Denver:20361207T210000
DTSTAMP:20260420T065514
CREATED:20251111T003939Z
LAST-MODIFIED:20260325T033151Z
UID:10000149-1986382800-2112296400@centraltexaspoolleagues.com
SUMMARY:Central Texas Pool Leagues: Bi-Monthly 10-Ball Tournament
DESCRIPTION:Central Texas Pool Leagues 10-Ball Tournament\nSpecial Thanks to Mayfield’s Bar & Billiards for being our Host!\nPending Updated Registration Link (Check back closer to the event) \n \n$20.00 Buy-In | Venue adds to pot with 16+ registered players \nPre-Registration ends @12:00pm of the event! \nWhere: Mayfield’s Bar & Billiards | 13201 Pond Springs Rd Austin\, TX 78729 \nWhen: Even Months – 2nd Saturday of the Month | | 1:00pm (Doors open at 12:00pm) \nBCAPL Modified 10-Ball Rules \nRace to 3 – both Winner & Losers brackets \nAlternating Break | Rack Your Own | **No 3-Foul Rule** \nEarly 10-Ball counts (On-Break: cannot be front 2 corner pockets)
URL:https://centraltexaspoolleagues.com/event/central-texas-pool-leagues-10-ball-2/2032-12-11/
LOCATION:Mayfield’s Bar & Billiards\, 13201 Pond Springs Road\, Austin\, TX\, 78729\, United States
CATEGORIES:CTPL Monthly Tournament
ORGANIZER;CN="Central Texas Pool Leagues":MAILTO:leaguesupport@centraltexaspoolleagues.com
END:VEVENT
BEGIN:VEVENT
DTSTART;TZID=America/Denver:20330212T130000
DTEND;TZID=America/Denver:20370208T210000
DTSTAMP:20260420T065514
CREATED:20251111T003939Z
LAST-MODIFIED:20260325T033151Z
UID:10000150-1991826000-2117739600@centraltexaspoolleagues.com
SUMMARY:Central Texas Pool Leagues: Bi-Monthly 10-Ball Tournament
DESCRIPTION:Central Texas Pool Leagues 10-Ball Tournament\nSpecial Thanks to Mayfield’s Bar & Billiards for being our Host!\nPending Updated Registration Link (Check back closer to the event) \n \n$20.00 Buy-In | Venue adds to pot with 16+ registered players \nPre-Registration ends @12:00pm of the event! \nWhere: Mayfield’s Bar & Billiards | 13201 Pond Springs Rd Austin\, TX 78729 \nWhen: Even Months – 2nd Saturday of the Month | | 1:00pm (Doors open at 12:00pm) \nBCAPL Modified 10-Ball Rules \nRace to 3 – both Winner & Losers brackets \nAlternating Break | Rack Your Own | **No 3-Foul Rule** \nEarly 10-Ball counts (On-Break: cannot be front 2 corner pockets)
URL:https://centraltexaspoolleagues.com/event/central-texas-pool-leagues-10-ball-2/2033-02-12/
LOCATION:Mayfield’s Bar & Billiards\, 13201 Pond Springs Road\, Austin\, TX\, 78729\, United States
CATEGORIES:CTPL Monthly Tournament
ORGANIZER;CN="Central Texas Pool Leagues":MAILTO:leaguesupport@centraltexaspoolleagues.com
END:VEVENT
BEGIN:VEVENT
DTSTART;TZID=America/Denver:20330409T130000
DTEND;TZID=America/Denver:20370405T210000
DTSTAMP:20260420T065514
CREATED:20251111T003939Z
LAST-MODIFIED:20260325T033151Z
UID:10000151-1996664400-2122578000@centraltexaspoolleagues.com
SUMMARY:Central Texas Pool Leagues: Bi-Monthly 10-Ball Tournament
DESCRIPTION:Central Texas Pool Leagues 10-Ball Tournament\nSpecial Thanks to Mayfield’s Bar & Billiards for being our Host!\nPending Updated Registration Link (Check back closer to the event) \n \n$20.00 Buy-In | Venue adds to pot with 16+ registered players \nPre-Registration ends @12:00pm of the event! \nWhere: Mayfield’s Bar & Billiards | 13201 Pond Springs Rd Austin\, TX 78729 \nWhen: Even Months – 2nd Saturday of the Month | | 1:00pm (Doors open at 12:00pm) \nBCAPL Modified 10-Ball Rules \nRace to 3 – both Winner & Losers brackets \nAlternating Break | Rack Your Own | **No 3-Foul Rule** \nEarly 10-Ball counts (On-Break: cannot be front 2 corner pockets)
URL:https://centraltexaspoolleagues.com/event/central-texas-pool-leagues-10-ball-2/2033-04-09/
LOCATION:Mayfield’s Bar & Billiards\, 13201 Pond Springs Road\, Austin\, TX\, 78729\, United States
CATEGORIES:CTPL Monthly Tournament
ORGANIZER;CN="Central Texas Pool Leagues":MAILTO:leaguesupport@centraltexaspoolleagues.com
END:VEVENT
BEGIN:VEVENT
DTSTART;TZID=America/Denver:20330611T130000
DTEND;TZID=America/Denver:20370607T210000
DTSTAMP:20260420T065514
CREATED:20251111T003939Z
LAST-MODIFIED:20260325T033151Z
UID:10000152-2002107600-2128021200@centraltexaspoolleagues.com
SUMMARY:Central Texas Pool Leagues: Bi-Monthly 10-Ball Tournament
DESCRIPTION:Central Texas Pool Leagues 10-Ball Tournament\nSpecial Thanks to Mayfield’s Bar & Billiards for being our Host!\nPending Updated Registration Link (Check back closer to the event) \n \n$20.00 Buy-In | Venue adds to pot with 16+ registered players \nPre-Registration ends @12:00pm of the event! \nWhere: Mayfield’s Bar & Billiards | 13201 Pond Springs Rd Austin\, TX 78729 \nWhen: Even Months – 2nd Saturday of the Month | | 1:00pm (Doors open at 12:00pm) \nBCAPL Modified 10-Ball Rules \nRace to 3 – both Winner & Losers brackets \nAlternating Break | Rack Your Own | **No 3-Foul Rule** \nEarly 10-Ball counts (On-Break: cannot be front 2 corner pockets)
URL:https://centraltexaspoolleagues.com/event/central-texas-pool-leagues-10-ball-2/2033-06-11/
LOCATION:Mayfield’s Bar & Billiards\, 13201 Pond Springs Road\, Austin\, TX\, 78729\, United States
CATEGORIES:CTPL Monthly Tournament
ORGANIZER;CN="Central Texas Pool Leagues":MAILTO:leaguesupport@centraltexaspoolleagues.com
END:VEVENT
BEGIN:VEVENT
DTSTART;TZID=America/Denver:20330813T130000
DTEND;TZID=America/Denver:20370809T210000
DTSTAMP:20260420T065514
CREATED:20251111T003939Z
LAST-MODIFIED:20260325T033151Z
UID:10000153-2007550800-2133464400@centraltexaspoolleagues.com
SUMMARY:Central Texas Pool Leagues: Bi-Monthly 10-Ball Tournament
DESCRIPTION:Central Texas Pool Leagues 10-Ball Tournament\nSpecial Thanks to Mayfield’s Bar & Billiards for being our Host!\nPending Updated Registration Link (Check back closer to the event) \n \n$20.00 Buy-In | Venue adds to pot with 16+ registered players \nPre-Registration ends @12:00pm of the event! \nWhere: Mayfield’s Bar & Billiards | 13201 Pond Springs Rd Austin\, TX 78729 \nWhen: Even Months – 2nd Saturday of the Month | | 1:00pm (Doors open at 12:00pm) \nBCAPL Modified 10-Ball Rules \nRace to 3 – both Winner & Losers brackets \nAlternating Break | Rack Your Own | **No 3-Foul Rule** \nEarly 10-Ball counts (On-Break: cannot be front 2 corner pockets)
URL:https://centraltexaspoolleagues.com/event/central-texas-pool-leagues-10-ball-2/2033-08-13/
LOCATION:Mayfield’s Bar & Billiards\, 13201 Pond Springs Road\, Austin\, TX\, 78729\, United States
CATEGORIES:CTPL Monthly Tournament
ORGANIZER;CN="Central Texas Pool Leagues":MAILTO:leaguesupport@centraltexaspoolleagues.com
END:VEVENT
BEGIN:VEVENT
DTSTART;TZID=America/Denver:20331008T130000
DTEND;TZID=America/Denver:20371004T210000
DTSTAMP:20260420T065514
CREATED:20251111T003939Z
LAST-MODIFIED:20260325T033151Z
UID:10000154-2012389200-2138302800@centraltexaspoolleagues.com
SUMMARY:Central Texas Pool Leagues: Bi-Monthly 10-Ball Tournament
DESCRIPTION:Central Texas Pool Leagues 10-Ball Tournament\nSpecial Thanks to Mayfield’s Bar & Billiards for being our Host!\nPending Updated Registration Link (Check back closer to the event) \n \n$20.00 Buy-In | Venue adds to pot with 16+ registered players \nPre-Registration ends @12:00pm of the event! \nWhere: Mayfield’s Bar & Billiards | 13201 Pond Springs Rd Austin\, TX 78729 \nWhen: Even Months – 2nd Saturday of the Month | | 1:00pm (Doors open at 12:00pm) \nBCAPL Modified 10-Ball Rules \nRace to 3 – both Winner & Losers brackets \nAlternating Break | Rack Your Own | **No 3-Foul Rule** \nEarly 10-Ball counts (On-Break: cannot be front 2 corner pockets)
URL:https://centraltexaspoolleagues.com/event/central-texas-pool-leagues-10-ball-2/2033-10-08/
LOCATION:Mayfield’s Bar & Billiards\, 13201 Pond Springs Road\, Austin\, TX\, 78729\, United States
CATEGORIES:CTPL Monthly Tournament
ORGANIZER;CN="Central Texas Pool Leagues":MAILTO:leaguesupport@centraltexaspoolleagues.com
END:VEVENT
BEGIN:VEVENT
DTSTART;TZID=America/Denver:20331210T130000
DTEND;TZID=America/Denver:20371206T210000
DTSTAMP:20260420T065514
CREATED:20251111T003939Z
LAST-MODIFIED:20260325T033151Z
UID:10000155-2017832400-2143746000@centraltexaspoolleagues.com
SUMMARY:Central Texas Pool Leagues: Bi-Monthly 10-Ball Tournament
DESCRIPTION:Central Texas Pool Leagues 10-Ball Tournament\nSpecial Thanks to Mayfield’s Bar & Billiards for being our Host!\nPending Updated Registration Link (Check back closer to the event) \n \n$20.00 Buy-In | Venue adds to pot with 16+ registered players \nPre-Registration ends @12:00pm of the event! \nWhere: Mayfield’s Bar & Billiards | 13201 Pond Springs Rd Austin\, TX 78729 \nWhen: Even Months – 2nd Saturday of the Month | | 1:00pm (Doors open at 12:00pm) \nBCAPL Modified 10-Ball Rules \nRace to 3 – both Winner & Losers brackets \nAlternating Break | Rack Your Own | **No 3-Foul Rule** \nEarly 10-Ball counts (On-Break: cannot be front 2 corner pockets)
URL:https://centraltexaspoolleagues.com/event/central-texas-pool-leagues-10-ball-2/2033-12-10/
LOCATION:Mayfield’s Bar & Billiards\, 13201 Pond Springs Road\, Austin\, TX\, 78729\, United States
CATEGORIES:CTPL Monthly Tournament
ORGANIZER;CN="Central Texas Pool Leagues":MAILTO:leaguesupport@centraltexaspoolleagues.com
END:VEVENT
BEGIN:VEVENT
DTSTART;TZID=America/Denver:20340211T130000
DTEND;TZID=America/Denver:20380207T210000
DTSTAMP:20260420T065514
CREATED:20251111T003939Z
LAST-MODIFIED:20260325T033151Z
UID:10000156-2023275600-2149189200@centraltexaspoolleagues.com
SUMMARY:Central Texas Pool Leagues: Bi-Monthly 10-Ball Tournament
DESCRIPTION:Central Texas Pool Leagues 10-Ball Tournament\nSpecial Thanks to Mayfield’s Bar & Billiards for being our Host!\nPending Updated Registration Link (Check back closer to the event) \n \n$20.00 Buy-In | Venue adds to pot with 16+ registered players \nPre-Registration ends @12:00pm of the event! \nWhere: Mayfield’s Bar & Billiards | 13201 Pond Springs Rd Austin\, TX 78729 \nWhen: Even Months – 2nd Saturday of the Month | | 1:00pm (Doors open at 12:00pm) \nBCAPL Modified 10-Ball Rules \nRace to 3 – both Winner & Losers brackets \nAlternating Break | Rack Your Own | **No 3-Foul Rule** \nEarly 10-Ball counts (On-Break: cannot be front 2 corner pockets)
URL:https://centraltexaspoolleagues.com/event/central-texas-pool-leagues-10-ball-2/2034-02-11/
LOCATION:Mayfield’s Bar & Billiards\, 13201 Pond Springs Road\, Austin\, TX\, 78729\, United States
CATEGORIES:CTPL Monthly Tournament
ORGANIZER;CN="Central Texas Pool Leagues":MAILTO:leaguesupport@centraltexaspoolleagues.com
END:VEVENT
BEGIN:VEVENT
DTSTART;TZID=America/Denver:20340408T130000
DTEND;TZID=America/Denver:20380404T210000
DTSTAMP:20260420T065514
CREATED:20251111T003939Z
LAST-MODIFIED:20260325T033151Z
UID:10000157-2028114000-2154027600@centraltexaspoolleagues.com
SUMMARY:Central Texas Pool Leagues: Bi-Monthly 10-Ball Tournament
DESCRIPTION:Central Texas Pool Leagues 10-Ball Tournament\nSpecial Thanks to Mayfield’s Bar & Billiards for being our Host!\nPending Updated Registration Link (Check back closer to the event) \n \n$20.00 Buy-In | Venue adds to pot with 16+ registered players \nPre-Registration ends @12:00pm of the event! \nWhere: Mayfield’s Bar & Billiards | 13201 Pond Springs Rd Austin\, TX 78729 \nWhen: Even Months – 2nd Saturday of the Month | | 1:00pm (Doors open at 12:00pm) \nBCAPL Modified 10-Ball Rules \nRace to 3 – both Winner & Losers brackets \nAlternating Break | Rack Your Own | **No 3-Foul Rule** \nEarly 10-Ball counts (On-Break: cannot be front 2 corner pockets)
URL:https://centraltexaspoolleagues.com/event/central-texas-pool-leagues-10-ball-2/2034-04-08/
LOCATION:Mayfield’s Bar & Billiards\, 13201 Pond Springs Road\, Austin\, TX\, 78729\, United States
CATEGORIES:CTPL Monthly Tournament
ORGANIZER;CN="Central Texas Pool Leagues":MAILTO:leaguesupport@centraltexaspoolleagues.com
END:VEVENT
BEGIN:VEVENT
DTSTART;TZID=America/Denver:20340610T130000
DTEND;TZID=America/Denver:20380606T210000
DTSTAMP:20260420T065514
CREATED:20251111T003939Z
LAST-MODIFIED:20260325T033151Z
UID:10000158-2033557200-2159470800@centraltexaspoolleagues.com
SUMMARY:Central Texas Pool Leagues: Bi-Monthly 10-Ball Tournament
DESCRIPTION:Central Texas Pool Leagues 10-Ball Tournament\nSpecial Thanks to Mayfield’s Bar & Billiards for being our Host!\nPending Updated Registration Link (Check back closer to the event) \n \n$20.00 Buy-In | Venue adds to pot with 16+ registered players \nPre-Registration ends @12:00pm of the event! \nWhere: Mayfield’s Bar & Billiards | 13201 Pond Springs Rd Austin\, TX 78729 \nWhen: Even Months – 2nd Saturday of the Month | | 1:00pm (Doors open at 12:00pm) \nBCAPL Modified 10-Ball Rules \nRace to 3 – both Winner & Losers brackets \nAlternating Break | Rack Your Own | **No 3-Foul Rule** \nEarly 10-Ball counts (On-Break: cannot be front 2 corner pockets)
URL:https://centraltexaspoolleagues.com/event/central-texas-pool-leagues-10-ball-2/2034-06-10/
LOCATION:Mayfield’s Bar & Billiards\, 13201 Pond Springs Road\, Austin\, TX\, 78729\, United States
CATEGORIES:CTPL Monthly Tournament
ORGANIZER;CN="Central Texas Pool Leagues":MAILTO:leaguesupport@centraltexaspoolleagues.com
END:VEVENT
BEGIN:VEVENT
DTSTART;TZID=America/Denver:20340812T130000
DTEND;TZID=America/Denver:20380808T210000
DTSTAMP:20260420T065514
CREATED:20251111T003939Z
LAST-MODIFIED:20260325T033151Z
UID:10000159-2039000400-2164914000@centraltexaspoolleagues.com
SUMMARY:Central Texas Pool Leagues: Bi-Monthly 10-Ball Tournament
DESCRIPTION:Central Texas Pool Leagues 10-Ball Tournament\nSpecial Thanks to Mayfield’s Bar & Billiards for being our Host!\nPending Updated Registration Link (Check back closer to the event) \n \n$20.00 Buy-In | Venue adds to pot with 16+ registered players \nPre-Registration ends @12:00pm of the event! \nWhere: Mayfield’s Bar & Billiards | 13201 Pond Springs Rd Austin\, TX 78729 \nWhen: Even Months – 2nd Saturday of the Month | | 1:00pm (Doors open at 12:00pm) \nBCAPL Modified 10-Ball Rules \nRace to 3 – both Winner & Losers brackets \nAlternating Break | Rack Your Own | **No 3-Foul Rule** \nEarly 10-Ball counts (On-Break: cannot be front 2 corner pockets)
URL:https://centraltexaspoolleagues.com/event/central-texas-pool-leagues-10-ball-2/2034-08-12/
LOCATION:Mayfield’s Bar & Billiards\, 13201 Pond Springs Road\, Austin\, TX\, 78729\, United States
CATEGORIES:CTPL Monthly Tournament
ORGANIZER;CN="Central Texas Pool Leagues":MAILTO:leaguesupport@centraltexaspoolleagues.com
END:VEVENT
BEGIN:VEVENT
DTSTART;TZID=America/Denver:20341014T130000
DTEND;TZID=America/Denver:20381010T210000
DTSTAMP:20260420T065514
CREATED:20251111T003939Z
LAST-MODIFIED:20260325T033151Z
UID:10000160-2044443600-2170357200@centraltexaspoolleagues.com
SUMMARY:Central Texas Pool Leagues: Bi-Monthly 10-Ball Tournament
DESCRIPTION:Central Texas Pool Leagues 10-Ball Tournament\nSpecial Thanks to Mayfield’s Bar & Billiards for being our Host!\nPending Updated Registration Link (Check back closer to the event) \n \n$20.00 Buy-In | Venue adds to pot with 16+ registered players \nPre-Registration ends @12:00pm of the event! \nWhere: Mayfield’s Bar & Billiards | 13201 Pond Springs Rd Austin\, TX 78729 \nWhen: Even Months – 2nd Saturday of the Month | | 1:00pm (Doors open at 12:00pm) \nBCAPL Modified 10-Ball Rules \nRace to 3 – both Winner & Losers brackets \nAlternating Break | Rack Your Own | **No 3-Foul Rule** \nEarly 10-Ball counts (On-Break: cannot be front 2 corner pockets)
URL:https://centraltexaspoolleagues.com/event/central-texas-pool-leagues-10-ball-2/2034-10-14/
LOCATION:Mayfield’s Bar & Billiards\, 13201 Pond Springs Road\, Austin\, TX\, 78729\, United States
CATEGORIES:CTPL Monthly Tournament
ORGANIZER;CN="Central Texas Pool Leagues":MAILTO:leaguesupport@centraltexaspoolleagues.com
END:VEVENT
BEGIN:VEVENT
DTSTART;TZID=America/Denver:20341209T130000
DTEND;TZID=America/Denver:20381205T210000
DTSTAMP:20260420T065514
CREATED:20251111T003939Z
LAST-MODIFIED:20260325T033151Z
UID:10000171-2049282000-2175195600@centraltexaspoolleagues.com
SUMMARY:Central Texas Pool Leagues: Bi-Monthly 10-Ball Tournament
DESCRIPTION:Central Texas Pool Leagues 10-Ball Tournament\nSpecial Thanks to Mayfield’s Bar & Billiards for being our Host!\nPending Updated Registration Link (Check back closer to the event) \n \n$20.00 Buy-In | Venue adds to pot with 16+ registered players \nPre-Registration ends @12:00pm of the event! \nWhere: Mayfield’s Bar & Billiards | 13201 Pond Springs Rd Austin\, TX 78729 \nWhen: Even Months – 2nd Saturday of the Month | | 1:00pm (Doors open at 12:00pm) \nBCAPL Modified 10-Ball Rules \nRace to 3 – both Winner & Losers brackets \nAlternating Break | Rack Your Own | **No 3-Foul Rule** \nEarly 10-Ball counts (On-Break: cannot be front 2 corner pockets)
URL:https://centraltexaspoolleagues.com/event/central-texas-pool-leagues-10-ball-2/2034-12-09/
LOCATION:Mayfield’s Bar & Billiards\, 13201 Pond Springs Road\, Austin\, TX\, 78729\, United States
CATEGORIES:CTPL Monthly Tournament
ORGANIZER;CN="Central Texas Pool Leagues":MAILTO:leaguesupport@centraltexaspoolleagues.com
END:VEVENT
BEGIN:VEVENT
DTSTART;TZID=America/Denver:20350210T130000
DTEND;TZID=America/Denver:20390206T210000
DTSTAMP:20260420T065514
CREATED:20251111T003939Z
LAST-MODIFIED:20260325T033151Z
UID:10000172-2054725200-2180638800@centraltexaspoolleagues.com
SUMMARY:Central Texas Pool Leagues: Bi-Monthly 10-Ball Tournament
DESCRIPTION:Central Texas Pool Leagues 10-Ball Tournament\nSpecial Thanks to Mayfield’s Bar & Billiards for being our Host!\nPending Updated Registration Link (Check back closer to the event) \n \n$20.00 Buy-In | Venue adds to pot with 16+ registered players \nPre-Registration ends @12:00pm of the event! \nWhere: Mayfield’s Bar & Billiards | 13201 Pond Springs Rd Austin\, TX 78729 \nWhen: Even Months – 2nd Saturday of the Month | | 1:00pm (Doors open at 12:00pm) \nBCAPL Modified 10-Ball Rules \nRace to 3 – both Winner & Losers brackets \nAlternating Break | Rack Your Own | **No 3-Foul Rule** \nEarly 10-Ball counts (On-Break: cannot be front 2 corner pockets)
URL:https://centraltexaspoolleagues.com/event/central-texas-pool-leagues-10-ball-2/2035-02-10/
LOCATION:Mayfield’s Bar & Billiards\, 13201 Pond Springs Road\, Austin\, TX\, 78729\, United States
CATEGORIES:CTPL Monthly Tournament
ORGANIZER;CN="Central Texas Pool Leagues":MAILTO:leaguesupport@centraltexaspoolleagues.com
END:VEVENT
END:VCALENDAR