BEGIN:VCALENDAR
VERSION:2.0
PRODID:-//CENTRAL TEXAS POOL LEAGUES - ECPv6.15.20//NONSGML v1.0//EN
CALSCALE:GREGORIAN
METHOD:PUBLISH
X-WR-CALNAME:CENTRAL TEXAS POOL LEAGUES
X-ORIGINAL-URL:https://centraltexaspoolleagues.com
X-WR-CALDESC:Events for CENTRAL TEXAS POOL LEAGUES
REFRESH-INTERVAL;VALUE=DURATION:PT1H
X-Robots-Tag:noindex
X-PUBLISHED-TTL:PT1H
BEGIN:VTIMEZONE
TZID:America/Denver
BEGIN:DAYLIGHT
TZOFFSETFROM:-0700
TZOFFSETTO:-0600
TZNAME:MDT
DTSTART:20250309T090000
END:DAYLIGHT
BEGIN:STANDARD
TZOFFSETFROM:-0600
TZOFFSETTO:-0700
TZNAME:MST
DTSTART:20251102T080000
END:STANDARD
BEGIN:DAYLIGHT
TZOFFSETFROM:-0700
TZOFFSETTO:-0600
TZNAME:MDT
DTSTART:20260308T090000
END:DAYLIGHT
BEGIN:STANDARD
TZOFFSETFROM:-0600
TZOFFSETTO:-0700
TZNAME:MST
DTSTART:20261101T080000
END:STANDARD
BEGIN:DAYLIGHT
TZOFFSETFROM:-0700
TZOFFSETTO:-0600
TZNAME:MDT
DTSTART:20270314T090000
END:DAYLIGHT
BEGIN:STANDARD
TZOFFSETFROM:-0600
TZOFFSETTO:-0700
TZNAME:MST
DTSTART:20271107T080000
END:STANDARD
END:VTIMEZONE
BEGIN:VEVENT
DTSTART;TZID=America/Denver:20260414T080000
DTEND;TZID=America/Denver:20260419T170000
DTSTAMP:20260421T071457
CREATED:20251219T052300Z
LAST-MODIFIED:20251219T083429Z
UID:10000165-1776153600-1776618000@centraltexaspoolleagues.com
SUMMARY:CSI LEAGUES ​LOUISIANA STATE CHAMPIONSHIPS
DESCRIPTION:Louisiana Downs Racetrack & Casino\nBossier City\, LA \nWHO CAN PLAY?\n​Players must be 2026 BCA Pool League or USA Pool League members and play at least four (4) weeks in a single division session between Jan 1\, 2026 and the registration deadline. \nJoin the BCA Pool League or USA Pool League today to participate! \nEasy. Fast. Secure.\nREGISTER ONLINE\n➡️ ​Not sure how to register online? Read the How to Register Online guide. \n\nAll the information about the event. \nPLAYER GUIDE\nTOURN REGULATIONS\nENTRY FORM (coming)\nDRESS CODE \n\nSCHEDULE OF EVENTS\n \nHOTELS\n\n\n\nSPRINGHILL SUITES\n​8010 East Texas Street\nBossier City\, Louisiana 7111\nWalk time to event: 9 min\nComing soon… \nCOMFORT SUITES\n​7950 East Texas Street\nBossier City\, Louisiana 7111\nWalk time to event: 8 min\nComing soon… \n\n\n  \nIMPORTANT DATES\nFeb 23: Last day for early entry discount\n​Mar 9: Last day for mailed entries & personal checks\nMar 17: Last day for hotel discount\nMar 30: Last day for changes & refunds\nApr 6: Last day to register\n​Apr 14: Event begins
URL:https://centraltexaspoolleagues.com/event/csi-leagues-louisiana-state-championships/
CATEGORIES:CSI Leagues Main Event
ATTACH;FMTTYPE=image/jpeg:https://centraltexaspoolleagues.com/wp-content/uploads/2025/12/louisiana_orig.jpg
END:VEVENT
END:VCALENDAR