BEGIN:VCALENDAR
VERSION:2.0
PRODID:-//CENTRAL TEXAS POOL LEAGUES - ECPv6.15.20//NONSGML v1.0//EN
CALSCALE:GREGORIAN
METHOD:PUBLISH
X-ORIGINAL-URL:https://centraltexaspoolleagues.com
X-WR-CALDESC:Events for CENTRAL TEXAS POOL LEAGUES
REFRESH-INTERVAL;VALUE=DURATION:PT1H
X-Robots-Tag:noindex
X-PUBLISHED-TTL:PT1H
BEGIN:VTIMEZONE
TZID:America/Denver
BEGIN:DAYLIGHT
TZOFFSETFROM:-0700
TZOFFSETTO:-0600
TZNAME:MDT
DTSTART:20250309T090000
END:DAYLIGHT
BEGIN:STANDARD
TZOFFSETFROM:-0600
TZOFFSETTO:-0700
TZNAME:MST
DTSTART:20251102T080000
END:STANDARD
BEGIN:DAYLIGHT
TZOFFSETFROM:-0700
TZOFFSETTO:-0600
TZNAME:MDT
DTSTART:20260308T090000
END:DAYLIGHT
BEGIN:STANDARD
TZOFFSETFROM:-0600
TZOFFSETTO:-0700
TZNAME:MST
DTSTART:20261101T080000
END:STANDARD
BEGIN:DAYLIGHT
TZOFFSETFROM:-0700
TZOFFSETTO:-0600
TZNAME:MDT
DTSTART:20270314T090000
END:DAYLIGHT
BEGIN:STANDARD
TZOFFSETFROM:-0600
TZOFFSETTO:-0700
TZNAME:MST
DTSTART:20271107T080000
END:STANDARD
END:VTIMEZONE
BEGIN:VEVENT
DTSTART;TZID=America/Denver:20260915T080000
DTEND;TZID=America/Denver:20260920T170000
DTSTAMP:20260423T152441
CREATED:20251217T110126Z
LAST-MODIFIED:20251219T055406Z
UID:10000169-1789459200-1789923600@centraltexaspoolleagues.com
SUMMARY:CSI LEAGUES ​MICHIGAN STATE CHAMPIONSHIPS
DESCRIPTION:Kellogg Arena\nBattle Creek\, Michigan \nWHO CAN PLAY?\n​Players must be 2026 members of a BCA Pool League or USA Pool League and play at least four (4) weeks in a sanctioned division between Jan 1\, 2026 and the registration deadline. \nJoin the BCA Pool League or USA Pool League today to participate! \nMORE INFO COMING SOON…\nJoin the BCA Pool League or USA Pool League today to participate! \nFUTURE DATES\nSEP 14-19\, 2027\nSEP 19-24\, 2028\n​SEP 18-23\, 2029
URL:https://centraltexaspoolleagues.com/event/csi-leagues-michigan-state-championships/
CATEGORIES:CSI Leagues Main Event
ATTACH;FMTTYPE=image/jpeg:https://centraltexaspoolleagues.com/wp-content/uploads/2025/12/michigan_orig.jpg
END:VEVENT
END:VCALENDAR