BEGIN:VCALENDAR
VERSION:2.0
PRODID:-//CENTRAL TEXAS POOL LEAGUES - ECPv6.15.20//NONSGML v1.0//EN
CALSCALE:GREGORIAN
METHOD:PUBLISH
X-WR-CALNAME:CENTRAL TEXAS POOL LEAGUES
X-ORIGINAL-URL:https://centraltexaspoolleagues.com
X-WR-CALDESC:Events for CENTRAL TEXAS POOL LEAGUES
REFRESH-INTERVAL;VALUE=DURATION:PT1H
X-Robots-Tag:noindex
X-PUBLISHED-TTL:PT1H
BEGIN:VTIMEZONE
TZID:America/Denver
BEGIN:DAYLIGHT
TZOFFSETFROM:-0700
TZOFFSETTO:-0600
TZNAME:MDT
DTSTART:20250309T090000
END:DAYLIGHT
BEGIN:STANDARD
TZOFFSETFROM:-0600
TZOFFSETTO:-0700
TZNAME:MST
DTSTART:20251102T080000
END:STANDARD
BEGIN:DAYLIGHT
TZOFFSETFROM:-0700
TZOFFSETTO:-0600
TZNAME:MDT
DTSTART:20260308T090000
END:DAYLIGHT
BEGIN:STANDARD
TZOFFSETFROM:-0600
TZOFFSETTO:-0700
TZNAME:MST
DTSTART:20261101T080000
END:STANDARD
BEGIN:DAYLIGHT
TZOFFSETFROM:-0700
TZOFFSETTO:-0600
TZNAME:MDT
DTSTART:20270314T090000
END:DAYLIGHT
BEGIN:STANDARD
TZOFFSETFROM:-0600
TZOFFSETTO:-0700
TZNAME:MST
DTSTART:20271107T080000
END:STANDARD
END:VTIMEZONE
BEGIN:VEVENT
DTSTART;TZID=America/Denver:20260623T080000
DTEND;TZID=America/Denver:20260628T170000
DTSTAMP:20260423T104248
CREATED:20251219T054950Z
LAST-MODIFIED:20251219T054950Z
UID:10000167-1782201600-1782666000@centraltexaspoolleagues.com
SUMMARY:CSI LEAGUES ​TEXAS STATE CHAMPIONSHIPS
DESCRIPTION:Frank W. Mayborn Civic & Convention Center\nTemple\, TX \nWHO CAN PLAY?\n​Players must be 2026 BCA Pool League or USA Pool League members and play at least four (4) weeks in a single division session between Jan 1\, 2026 and the registration deadline. \nJoin the BCA Pool League or USA Pool League today to participate! \nMORE INFO COMING SOON…\nJoin the BCA Pool League or USA Pool League today to participate! \nFUTURE DATES\nJUNE 15-20\, 2027
URL:https://centraltexaspoolleagues.com/event/csi-leagues-texas-state-championships/
CATEGORIES:CSI Leagues Main Event
ATTACH;FMTTYPE=image/jpeg:https://centraltexaspoolleagues.com/wp-content/uploads/2025/12/texas_orig.jpg
END:VEVENT
END:VCALENDAR